BEGIN:VCALENDAR
VERSION:2.0
PRODID:-//SP Bolligen - ECPv6.15.20//NONSGML v1.0//EN
CALSCALE:GREGORIAN
METHOD:PUBLISH
X-WR-CALNAME:SP Bolligen
X-ORIGINAL-URL:https://sp-bolligen.ch
X-WR-CALDESC:Veranstaltungen im SP Bolligen
REFRESH-INTERVAL;VALUE=DURATION:PT1H
X-Robots-Tag:noindex
X-PUBLISHED-TTL:PT1H
BEGIN:VTIMEZONE
TZID:Europe/Zurich
BEGIN:DAYLIGHT
TZOFFSETFROM:+0100
TZOFFSETTO:+0200
TZNAME:CEST
DTSTART:20220327T010000
END:DAYLIGHT
BEGIN:STANDARD
TZOFFSETFROM:+0200
TZOFFSETTO:+0100
TZNAME:CET
DTSTART:20221030T010000
END:STANDARD
BEGIN:DAYLIGHT
TZOFFSETFROM:+0100
TZOFFSETTO:+0200
TZNAME:CEST
DTSTART:20230326T010000
END:DAYLIGHT
BEGIN:STANDARD
TZOFFSETFROM:+0200
TZOFFSETTO:+0100
TZNAME:CET
DTSTART:20231029T010000
END:STANDARD
BEGIN:DAYLIGHT
TZOFFSETFROM:+0100
TZOFFSETTO:+0200
TZNAME:CEST
DTSTART:20240331T010000
END:DAYLIGHT
BEGIN:STANDARD
TZOFFSETFROM:+0200
TZOFFSETTO:+0100
TZNAME:CET
DTSTART:20241027T010000
END:STANDARD
END:VTIMEZONE
BEGIN:VEVENT
DTSTART;TZID=Europe/Zurich:20231114T193000
DTEND;TZID=Europe/Zurich:20231114T193000
DTSTAMP:20260420T160844
CREATED:20231007T081437Z
LAST-MODIFIED:20250128T011748Z
UID:88444-1699990200-1699990200@sp-bolligen.ch
SUMMARY:Referat "Kreislaufwirtschaft" mit Nationalrätin Nadine Masshardt im kleinen Saal des Reberhauses Bolligen
DESCRIPTION:Referat “Kreislaufwirtschaft” mit Nadine Masshardt\, 19:30\, Reberhaus Bolligen\, kleiner Saal\nAktuell verhandelt die Kommission für Umwelt\, Raumplanung und Energie des Nationalrates über eine Revision des Umweltschutzgesetzes. Neu soll darin das Prinzip der Kreislaufwirtschaft aufgenommen werden. D.h. Wiederverwertung\, Repair und Recycling statt Wegwerfen und Verschwendung sollen durch entsprechende Anreize gefördert werden. Auf der Basis der entsprechenden Regelung in der EU soll eine erste Fassung verabschiedet werden bis Frühjahr 2024. Ob T-Shirt\, Toaster oder Tablet\, viele unserer Alltagsgegenstände werden nach viel zu kurzer Nutzungszeit als Abfall entsorgt. Die Schweiz ist zwar Weltmeisterin bezüglich Recyclings von Materialien\, doch belegt sie beim Verbrauch innerhalb Europas einen Spitzenplatz. Global gesehen wird nur ein kleiner Teil der gesammelten Textilien oder Elektronik wieder verwendet. Vielmehr landen Elektroschrott\, abgewrackte Schiffe oder Altkleider aus den Industrienationen auf wilden und umweltschädlichen Schrottplätzen und Deponien im globalen Süden.
URL:https://sp-bolligen.ch/veranstaltung/referat-kreislaufwirtschaft-mit-nationalraetin-nadine-masshardt-im-kleinen-saal-des-reberhauses-bolligen/
END:VEVENT
END:VCALENDAR